BEGIN:VCALENDAR
VERSION:2.0
PRODID:-//Elisha Edwards - Animal Health Training - ECPv6.15.18//NONSGML v1.0//EN
CALSCALE:GREGORIAN
METHOD:PUBLISH
X-WR-CALNAME:Elisha Edwards - Animal Health Training
X-ORIGINAL-URL:https://courses.elishaedwards.com
X-WR-CALDESC:Events for Elisha Edwards - Animal Health Training
REFRESH-INTERVAL;VALUE=DURATION:PT1H
X-Robots-Tag:noindex
X-PUBLISHED-TTL:PT1H
BEGIN:VTIMEZONE
TZID:America/Edmonton
BEGIN:DAYLIGHT
TZOFFSETFROM:-0700
TZOFFSETTO:-0600
TZNAME:MDT
DTSTART:20240310T090000
END:DAYLIGHT
BEGIN:STANDARD
TZOFFSETFROM:-0600
TZOFFSETTO:-0700
TZNAME:MST
DTSTART:20241103T080000
END:STANDARD
BEGIN:DAYLIGHT
TZOFFSETFROM:-0700
TZOFFSETTO:-0600
TZNAME:MDT
DTSTART:20250309T090000
END:DAYLIGHT
BEGIN:STANDARD
TZOFFSETFROM:-0600
TZOFFSETTO:-0700
TZNAME:MST
DTSTART:20251102T080000
END:STANDARD
BEGIN:DAYLIGHT
TZOFFSETFROM:-0700
TZOFFSETTO:-0600
TZNAME:MDT
DTSTART:20260308T090000
END:DAYLIGHT
BEGIN:STANDARD
TZOFFSETFROM:-0600
TZOFFSETTO:-0700
TZNAME:MST
DTSTART:20261101T080000
END:STANDARD
BEGIN:DAYLIGHT
TZOFFSETFROM:-0700
TZOFFSETTO:-0600
TZNAME:MDT
DTSTART:20270314T090000
END:DAYLIGHT
BEGIN:STANDARD
TZOFFSETFROM:-0600
TZOFFSETTO:-0700
TZNAME:MST
DTSTART:20271107T080000
END:STANDARD
END:VTIMEZONE
BEGIN:VTIMEZONE
TZID:America/Chicago
BEGIN:DAYLIGHT
TZOFFSETFROM:-0600
TZOFFSETTO:-0500
TZNAME:CDT
DTSTART:20240310T080000
END:DAYLIGHT
BEGIN:STANDARD
TZOFFSETFROM:-0500
TZOFFSETTO:-0600
TZNAME:CST
DTSTART:20241103T070000
END:STANDARD
BEGIN:DAYLIGHT
TZOFFSETFROM:-0600
TZOFFSETTO:-0500
TZNAME:CDT
DTSTART:20250309T080000
END:DAYLIGHT
BEGIN:STANDARD
TZOFFSETFROM:-0500
TZOFFSETTO:-0600
TZNAME:CST
DTSTART:20251102T070000
END:STANDARD
BEGIN:DAYLIGHT
TZOFFSETFROM:-0600
TZOFFSETTO:-0500
TZNAME:CDT
DTSTART:20260308T080000
END:DAYLIGHT
BEGIN:STANDARD
TZOFFSETFROM:-0500
TZOFFSETTO:-0600
TZNAME:CST
DTSTART:20261101T070000
END:STANDARD
BEGIN:DAYLIGHT
TZOFFSETFROM:-0600
TZOFFSETTO:-0500
TZNAME:CDT
DTSTART:20270314T080000
END:DAYLIGHT
BEGIN:STANDARD
TZOFFSETFROM:-0500
TZOFFSETTO:-0600
TZNAME:CST
DTSTART:20271107T070000
END:STANDARD
END:VTIMEZONE
BEGIN:VTIMEZONE
TZID:America/Denver
BEGIN:DAYLIGHT
TZOFFSETFROM:-0700
TZOFFSETTO:-0600
TZNAME:MDT
DTSTART:20240310T090000
END:DAYLIGHT
BEGIN:STANDARD
TZOFFSETFROM:-0600
TZOFFSETTO:-0700
TZNAME:MST
DTSTART:20241103T080000
END:STANDARD
BEGIN:DAYLIGHT
TZOFFSETFROM:-0700
TZOFFSETTO:-0600
TZNAME:MDT
DTSTART:20250309T090000
END:DAYLIGHT
BEGIN:STANDARD
TZOFFSETFROM:-0600
TZOFFSETTO:-0700
TZNAME:MST
DTSTART:20251102T080000
END:STANDARD
BEGIN:DAYLIGHT
TZOFFSETFROM:-0700
TZOFFSETTO:-0600
TZNAME:MDT
DTSTART:20260308T090000
END:DAYLIGHT
BEGIN:STANDARD
TZOFFSETFROM:-0600
TZOFFSETTO:-0700
TZNAME:MST
DTSTART:20261101T080000
END:STANDARD
BEGIN:DAYLIGHT
TZOFFSETFROM:-0700
TZOFFSETTO:-0600
TZNAME:MDT
DTSTART:20270314T090000
END:DAYLIGHT
BEGIN:STANDARD
TZOFFSETFROM:-0600
TZOFFSETTO:-0700
TZNAME:MST
DTSTART:20271107T080000
END:STANDARD
END:VTIMEZONE
BEGIN:VEVENT
DTSTART;TZID=America/Edmonton:20250724T180000
DTEND;TZID=America/Edmonton:20250724T193000
DTSTAMP:20260425T053127
CREATED:20250425T235305Z
LAST-MODIFIED:20250630T220551Z
UID:5870-1753380000-1753385400@courses.elishaedwards.com
SUMMARY:Dr. Emily Kieson: Building better human-horse relationships
DESCRIPTION:
URL:https://courses.elishaedwards.com/event/qa-session-open-mic-night-12/
CATEGORIES:Guest Speakers
END:VEVENT
BEGIN:VEVENT
DTSTART;TZID=America/Edmonton:20250807T180000
DTEND;TZID=America/Edmonton:20250807T193000
DTSTAMP:20260425T053127
CREATED:20250425T235450Z
LAST-MODIFIED:20250804T162048Z
UID:5871-1754589600-1754595000@courses.elishaedwards.com
SUMMARY:Q&A Session: Open Mic Night
DESCRIPTION:
URL:https://courses.elishaedwards.com/event/case-study-tba-9/
CATEGORIES:Q&A Session
END:VEVENT
BEGIN:VEVENT
DTSTART;TZID=America/Edmonton:20250826T120000
DTEND;TZID=America/Edmonton:20250826T133000
DTSTAMP:20260425T053127
CREATED:20250804T163029Z
LAST-MODIFIED:20250826T013629Z
UID:5914-1756209600-1756215000@courses.elishaedwards.com
SUMMARY:Q&A Session: Open Mic Night
DESCRIPTION:
URL:https://courses.elishaedwards.com/event/qa-session-open-mic-night-14/
CATEGORIES:Q&A Session
END:VEVENT
BEGIN:VEVENT
DTSTART;TZID=America/Chicago:20250828T180000
DTEND;TZID=America/Chicago:20250828T193000
DTSTAMP:20260425T053127
CREATED:20250804T162320Z
LAST-MODIFIED:20250804T162320Z
UID:5912-1756404000-1756409400@courses.elishaedwards.com
SUMMARY:Case Study: Jazz Recovers from Chronic colic
DESCRIPTION:
URL:https://courses.elishaedwards.com/event/case-study-jazz-recovers-from-chronic-colic/
CATEGORIES:Case Studies
END:VEVENT
BEGIN:VEVENT
DTSTART;TZID=America/Chicago:20250911T180000
DTEND;TZID=America/Chicago:20250911T193000
DTSTAMP:20260425T053127
CREATED:20250804T162640Z
LAST-MODIFIED:20250804T162640Z
UID:5913-1757613600-1757619000@courses.elishaedwards.com
SUMMARY:Q&A Session: Open Mic Night
DESCRIPTION:
URL:https://courses.elishaedwards.com/event/qa-session-open-mic-night-13/
CATEGORIES:Q&A Session
END:VEVENT
BEGIN:VEVENT
DTSTART;TZID=America/Chicago:20250925T180000
DTEND;TZID=America/Chicago:20250925T193000
DTSTAMP:20260425T053127
CREATED:20250804T163817Z
LAST-MODIFIED:20250804T163817Z
UID:5915-1758823200-1758828600@courses.elishaedwards.com
SUMMARY:Live Training: The Seasonal Rise of ACTH
DESCRIPTION:
URL:https://courses.elishaedwards.com/event/live-training-the-seasonal-rise-of-acth/
CATEGORIES:Live Trainings
END:VEVENT
BEGIN:VEVENT
DTSTART;TZID=America/Denver:20251009T180000
DTEND;TZID=America/Denver:20251009T193000
DTSTAMP:20260425T053127
CREATED:20250804T164053Z
LAST-MODIFIED:20251002T234324Z
UID:5916-1760032800-1760038200@courses.elishaedwards.com
SUMMARY:Herbs and homeopathic remedies for ACTH Support
DESCRIPTION:
URL:https://courses.elishaedwards.com/event/herbs-and-homeopathic-remedies-for-acth-support/
CATEGORIES:Live Trainings
END:VEVENT
BEGIN:VEVENT
DTSTART;TZID=America/Denver:20251023T180000
DTEND;TZID=America/Denver:20251023T193000
DTSTAMP:20260425T053127
CREATED:20250804T164211Z
LAST-MODIFIED:20251002T234406Z
UID:5917-1761242400-1761247800@courses.elishaedwards.com
SUMMARY:Q&A Session: Open Mic Night
DESCRIPTION:
URL:https://courses.elishaedwards.com/event/qa-session-open-mic-night-15/
CATEGORIES:Q&A Session
END:VEVENT
BEGIN:VEVENT
DTSTART;TZID=America/Denver:20251106T180000
DTEND;TZID=America/Denver:20251106T193000
DTSTAMP:20260425T053127
CREATED:20250804T164447Z
LAST-MODIFIED:20251104T202921Z
UID:5918-1762452000-1762457400@courses.elishaedwards.com
SUMMARY:Case Study: Tara's toxicity induced laminitis with Karen Mena
DESCRIPTION:
URL:https://courses.elishaedwards.com/event/case-study-tba-10/
CATEGORIES:Case Studies
END:VEVENT
BEGIN:VEVENT
DTSTART;TZID=America/Denver:20251120T180000
DTEND;TZID=America/Denver:20251120T193000
DTSTAMP:20260425T053127
CREATED:20251002T234749Z
LAST-MODIFIED:20251002T234749Z
UID:5938-1763661600-1763667000@courses.elishaedwards.com
SUMMARY:Q&A Session: Open Mic Night
DESCRIPTION:
URL:https://courses.elishaedwards.com/event/qa-session-open-mic-night-16/
CATEGORIES:Q&A Session
END:VEVENT
BEGIN:VEVENT
DTSTART;TZID=America/Denver:20251204T180000
DTEND;TZID=America/Denver:20251204T193000
DTSTAMP:20260425T053127
CREATED:20250804T165006Z
LAST-MODIFIED:20251205T042834Z
UID:5919-1764871200-1764876600@courses.elishaedwards.com
SUMMARY:Guest Speaker: Marijke van de Water - Lahar's wound healing
DESCRIPTION:
URL:https://courses.elishaedwards.com/event/guest-speaker-tba-3/
CATEGORIES:Guest Speakers
END:VEVENT
BEGIN:VEVENT
DTSTART;TZID=America/Denver:20251211T180000
DTEND;TZID=America/Denver:20251211T193000
DTSTAMP:20260425T053127
CREATED:20250804T165457Z
LAST-MODIFIED:20251205T042419Z
UID:5920-1765476000-1765481400@courses.elishaedwards.com
SUMMARY:Year in Review for 2025: Open Mic Night
DESCRIPTION:
URL:https://courses.elishaedwards.com/event/year-in-review-for-2025-open-mic-night/
CATEGORIES:Q&A Session
END:VEVENT
BEGIN:VEVENT
DTSTART;TZID=America/Denver:20260108T180000
DTEND;TZID=America/Denver:20260108T193000
DTSTAMP:20260425T053127
CREATED:20251231T040141Z
LAST-MODIFIED:20251231T040945Z
UID:6039-1767895200-1767900600@courses.elishaedwards.com
SUMMARY:Open Mic Night: Goal-Setting for 2026
DESCRIPTION:
URL:https://courses.elishaedwards.com/event/open-mic-night-goal-setting-for-2026/
CATEGORIES:Q&A Session
END:VEVENT
BEGIN:VEVENT
DTSTART;TZID=America/Denver:20260122T180000
DTEND;TZID=America/Denver:20260122T193000
DTSTAMP:20260425T053127
CREATED:20251231T040404Z
LAST-MODIFIED:20251231T040857Z
UID:6040-1769104800-1769110200@courses.elishaedwards.com
SUMMARY:Case Study: Teddy Bear gets her appetite back
DESCRIPTION:
URL:https://courses.elishaedwards.com/event/case-study-teddy-bear-gets-her-appetite-back/
CATEGORIES:Case Studies
END:VEVENT
BEGIN:VEVENT
DTSTART;TZID=America/Denver:20260212T180000
DTEND;TZID=America/Denver:20260212T193000
DTSTAMP:20260425T053127
CREATED:20260202T175053Z
LAST-MODIFIED:20260202T175339Z
UID:6046-1770919200-1770924600@courses.elishaedwards.com
SUMMARY:Q&A Session: Open Mic Night
DESCRIPTION:
URL:https://courses.elishaedwards.com/event/qa-session-open-mic-night-17/
CATEGORIES:Q&A Session
END:VEVENT
BEGIN:VEVENT
DTSTART;TZID=America/Chicago:20260226T180000
DTEND;TZID=America/Chicago:20260226T193000
DTSTAMP:20260425T053127
CREATED:20260202T175930Z
LAST-MODIFIED:20260202T175930Z
UID:6048-1772128800-1772134200@courses.elishaedwards.com
SUMMARY:Group Call Topic TBA
DESCRIPTION:
URL:https://courses.elishaedwards.com/event/group-call-topic-tba/
CATEGORIES:Guest Speakers
END:VEVENT
BEGIN:VEVENT
DTSTART;TZID=America/Chicago:20260305T180000
DTEND;TZID=America/Chicago:20260305T193000
DTSTAMP:20260425T053127
CREATED:20260305T185929Z
LAST-MODIFIED:20260305T185929Z
UID:6080-1772733600-1772739000@courses.elishaedwards.com
SUMMARY:Guest Speaker: Paddock to Paradise with Natalie Zoratto and Jessica Fobert
DESCRIPTION:
URL:https://courses.elishaedwards.com/event/guest-speaker-paddock-to-paradise-with-natalie-zoratto-and-jessica-fobert/
CATEGORIES:Guest Speakers
END:VEVENT
BEGIN:VEVENT
DTSTART;TZID=America/Edmonton:20260319T180000
DTEND;TZID=America/Edmonton:20260319T193000
DTSTAMP:20260425T053127
CREATED:20260317T042421Z
LAST-MODIFIED:20260317T042706Z
UID:6100-1773943200-1773948600@courses.elishaedwards.com
SUMMARY:LIVE TRAINING: The Confidence Triangle Tracker
DESCRIPTION:
URL:https://courses.elishaedwards.com/event/live-training-the-confidence-triangle-tracker/
CATEGORIES:Live Trainings
END:VEVENT
BEGIN:VEVENT
DTSTART;TZID=America/Edmonton:20260409T180000
DTEND;TZID=America/Edmonton:20260409T193000
DTSTAMP:20260425T053127
CREATED:20260401T200206Z
LAST-MODIFIED:20260401T200206Z
UID:6115-1775757600-1775763000@courses.elishaedwards.com
SUMMARY:Q&A Session: Open Mic Night
DESCRIPTION:Click HERE to convert to your time zone.
URL:https://courses.elishaedwards.com/event/qa-session-open-mic-night-18/
CATEGORIES:Q&A Session
END:VEVENT
BEGIN:VEVENT
DTSTART;TZID=America/Edmonton:20260423T190000
DTEND;TZID=America/Edmonton:20260423T203000
DTSTAMP:20260425T053127
CREATED:20260401T201858Z
LAST-MODIFIED:20260423T235903Z
UID:6116-1776970800-1776976200@courses.elishaedwards.com
SUMMARY:Case Study: TBA
DESCRIPTION:Click HERE to convert to your time zone.
URL:https://courses.elishaedwards.com/event/case-study-tba-11/
CATEGORIES:Case Studies
END:VEVENT
END:VCALENDAR